{
 "extent": {
  "ymin": 4261247.3361928295,
  "xmin": 423903.74394104641,
  "ymax": 4558006.616287942,
  "xmax": 614216.24222997483,
  "spatialReference": {
   "latestWkid": 26913,
   "wkid": 26913
  }
 },
 "blockWidth": 11850,
 "mosaicOperator": "First",
 "serviceSourceType": "esriImageServiceSourceTypeDataset",
 "hasMultidimensions": false,
 "maxImageWidth": 15000,
 "meanValues": [
  240.33364791049999
 ],
 "hasColormap": false,
 "compressionType": "LZW",
 "defaultCompressionQuality": 75,
 "maxValues": [
  255
 ],
 "hasHistograms": true,
 "datasetFormat": "TIFF",
 "maxImageHeight": 4100,
 "sortField": "",
 "bandNames": [
  "Band_1"
 ],
 "spatialReference": {
  "latestWkid": 26913,
  "wkid": 26913
 },
 "fullExtent": {
  "ymin": 4261247.3361928295,
  "xmin": 423903.74394104641,
  "ymax": 4558006.616287942,
  "xmax": 614216.24222997483,
  "spatialReference": {
   "latestWkid": 26913,
   "wkid": 26913
  }
 },
 "bandCount": 1,
 "rasterFunctionInfos": [
  {
   "help": "",
   "name": "None",
   "description": ""
  }
 ],
 "supportsStatistics": false,
 "sortableFields": "",
 "minValues": [
  0
 ],
 "allowRasterFunction": true,
 "allowComputeTiePoints": false,
 "serviceDataType": "esriImageServiceDataTypeGeneric",
 "supportsAdvancedQueries": false,
 "currentVersion": 12,
 "sortValue": null,
 "objectIdField": "",
 "blockHeight": 1,
 "initialExtent": {
  "ymin": 4261247.3361928295,
  "xmin": 423903.74394104641,
  "ymax": 4558006.616287942,
  "xmax": 614216.24222997483,
  "spatialReference": {
   "latestWkid": 26913,
   "wkid": 26913
  }
 },
 "pixelSizeX": 16.060126437884254,
 "pixelSizeY": 15.894980187204741,
 "defaultMosaicMethod": "Center",
 "name": "Other/ON_OF_78_08M",
 "allowedMosaicMethods": "",
 "fields": [],
 "allowAnalysis": true,
 "hasRasterAttributeTable": false,
 "useStandardizedQueries": false,
 "description": "",
 "pixelType": "U8",
 "meanPixelSize": 15.977553312544497,
 "exportTilesAllowed": false,
 "editFieldsInfo": null,
 "rasterTypeInfos": [
  {
   "help": "",
   "name": "Raster Dataset",
   "description": "Supports all ArcGIS Raster Datasets"
  }
 ],
 "defaultResamplingMethod": "Bilinear",
 "itemAccess": false,
 "minScale": 0,
 "serviceProperties": "Center<\/MosaicMethod>First<\/MosaicOperator>true<\/SortAscending><\/LockImageID><\/TileOrderField>0<\/TileOrderBase>0.000000<\/AvgImageSpacingX>0.000000<\/AvgImageSpacingY>0.0<\/ViewPointX>0.0<\/ViewPointY>0.0<\/ViewPointDefShiftX>0.0<\/ViewPointDefShiftY>None<\/CompressionMethod>75<\/CompressionQuality>0.010000<\/CompressionTolerance>Bilinear<\/SamplingMethod><\/ImageServiceProperties><\/ImageServer>",
 "advancedQueryCapabilities": {
  "supportsStatistics": false,
  "supportsSqlExpression": false,
  "supportsOrderBy": false,
  "useStandardizedQueries": false,
  "supportsPagination": false,
  "supportsDistinct": false
 },
 "capabilities": "Image,Metadata,Mensuration",
 "maxScale": 0,
 "stdvValues": [
  39.522863460670997
 ],
 "allowedFields": "",
 "minPixelSize": 0,
 "sortAscending": true,
 "inspectionCapabilities": "",
 "maxPixelSize": 0,
 "uncompressedSize": 221239500,
 "serviceDescription": "Other/ON_OF_78_08M",
 "allowCopy": true,
 "copyrightText": "Colorado Geological Survey:\nBroes, L.D., Mahatma, A., Che Zabri, M.Z., O\u2019Keeffe, M.K., Hopkins, J., 2020",
 "mensurationCapabilities": "Basic",
 "ownershipBasedAccessControlForRasters": null
}
