View In:
ArcGIS JavaScript
ArcGIS Online Map Viewer
ArcGIS Earth
Service Description: Other/ON_OF_78_08M
Name: Other/ON_OF_78_08M
Description:
Single Fused Map Cache: false
Extent:
XMin: 423903.7439410464
YMin: 4261247.33619283
XMax: 614216.2422299748
YMax: 4558006.616287942
Spatial Reference: 26913
(26913)
Initial Extent:
XMin: 423903.7439410464
YMin: 4261247.33619283
XMax: 614216.2422299748
YMax: 4558006.616287942
Spatial Reference: 26913
(26913)
Full Extent:
XMin: 423903.7439410464
YMin: 4261247.33619283
XMax: 614216.2422299748
YMax: 4558006.616287942
Spatial Reference: 26913
(26913)
Pixel Size X: 16.060126437884254
Pixel Size Y: 15.894980187204741
Band Count: 1
Pixel Type: U8
RasterFunction Infos: {"rasterFunctionInfos": [{
"help": "",
"name": "None",
"description": ""
}]}
Mensuration Capabilities: Basic
Inspection Capabilities:
Has Histograms: true
Has Colormap: false
Has Multi Dimensions : false
Rendering Rule:
Min Scale: 0
Max Scale: 0
Copyright Text: Colorado Geological Survey:
Broes, L.D., Mahatma, A., Che Zabri, M.Z., O’Keeffe, M.K., Hopkins, J., 2020
Service Data Type: esriImageServiceDataTypeGeneric
Min Values: 0
Max Values: 255
Mean Values: 240.33364791049999
Standard Deviation Values: 39.522863460670997
Object ID Field:
Fields:
None
Default Mosaic Method: Center
Allowed Mosaic Methods:
SortField:
SortValue: N/A
Mosaic Operator: First
Default Compression Quality: 75
Default Resampling Method: Bilinear
Max Record Count: null
Max Image Height: 4100
Max Image Width: 15000
Max Download Image Count: null
Max Mosaic Image Count: null
Allow Raster Function: true
Allow Copy: true
Allow Analysis: true
Allow Compute TiePoints: false
Supports Statistics: false
Supports Advanced Queries: false
Use StandardizedQueries: false
Raster Type Infos:
Name: Raster Dataset
Description: Supports all ArcGIS Raster Datasets
Help:
Has Raster Attribute Table: false
Edit Fields Info: N/A
Ownership Based AccessControl For Rasters: N/A
Child Resources:
Info
Histograms
Statistics
Key Properties
Legend
Raster Function Infos
Supported Operations:
Export Image
Identify
Measure
Compute Histograms
Compute Statistics Histograms
Get Samples
Compute Class Statistics
Query Boundary
Compute Pixel Location
Compute Angles
Validate
Project